BEGIN:VCALENDAR
VERSION:2.0
PRODID:-//ChamberMaster//Event Calendar 2.0//EN
METHOD:PUBLISH
X-PUBLISHED-TTL:P3D
REFRESH-INTERVAL:P3D
CALSCALE:GREGORIAN
BEGIN:VEVENT
DTSTART:20200212T200000Z
DTEND:20200212T210000Z
X-MICROSOFT-CDO-ALLDAYEVENT:FALSE
SUMMARY:Truckee Talkers Toastmasters Club Meeting
DESCRIPTION:Do you want to become a confident public speaker and strong leader? If so\, Toastmasters is the place for you. You will find a supportive learn-by-doing environment that allows you to achieve your goals at your own pace.
X-ALT-DESC;FMTTYPE=text/html:Do you want to become a confident public speaker and strong leader? If so\, Toastmasters is the place for you. You will find a supportive learn-by-doing environment that allows you to achieve your goals at your own pace.&nbsp\;
LOCATION:Town of Truckee Town Hall Conference Room 10183 Truckee Airport Road Truckee\, CA 96161
UID:e.2339.41682
SEQUENCE:3
DTSTAMP:20260424T160002Z
URL:https://business.truckee.com/events/details/truckee-talkers-toastmasters-club-meeting-02-12-2020-41682
END:VEVENT

END:VCALENDAR
