BEGIN:VCALENDAR
VERSION:2.0
PRODID:-//ChamberMaster//Event Calendar 2.0//EN
METHOD:PUBLISH
X-PUBLISHED-TTL:P3D
REFRESH-INTERVAL:P3D
CALSCALE:GREGORIAN
BEGIN:VEVENT
DTSTART:20251204T010000Z
DTEND:20251204T030000Z
X-MICROSOFT-CDO-ALLDAYEVENT:FALSE
SUMMARY:SOLD OUT - December Networking Mixer at Wild Pine Kitchen at Northstar
DESCRIPTION:SOLD OUT\n\nJoin us for our final mixer of the year a special joint celebration with the North Tahoe Chamber\, the Truckee Downtown Merchants Association\, Tahoe City Downtown Association\, Kings Beach District and Visit Truckee-Tahoe!\n\n\n\nWe'll gather at Wild Pine Kitchen in The Village at Northstar on Wednesday\, December 3rd from 5 7 PM to toast the season\, enjoy delicious food and drinks\, and connect with members from across our local business community. Don't miss this festive evening of networking and celebration! \n\n\n\nThis event will sell out! Please register today!\n\nPlease bring an unwrapped toy for Toys for Tots and/or a gently used coat.
X-ALT-DESC;FMTTYPE=text/html:<span style="font-size:18px\;"><strong>SOLD OUT</strong></span><br data-end="106" data-start="103" />\nJoin us for our final mixer of the year&mdash\;a special joint celebration with the North Tahoe Chamber\, the Truckee Downtown Merchants Association\, Tahoe City Downtown Association\, Kings Beach District and Visit Truckee-Tahoe!<br />\n<br />\nWe&rsquo\;ll gather at Wild Pine Kitchen in The Village at Northstar on Wednesday\,&nbsp\;December 3rd from 5&ndash\;7 PM to toast the season\, enjoy delicious food and drinks\, and connect with members from across our local business community. Don&rsquo\;t miss this festive evening of networking and celebration!&nbsp\;<br />\n<br />\nThis event will sell out! Please register today!<br />\nPlease bring an unwrapped toy for Toys for Tots and/or a gently used coat.
LOCATION:Wild Pine Kitchen\, Village at Northstar
UID:e.2339.82225
SEQUENCE:3
DTSTAMP:20260424T173515Z
URL:https://business.truckee.com/events/details/sold-out-december-networking-mixer-at-wild-pine-kitchen-at-northstar-82225
END:VEVENT

END:VCALENDAR
