BEGIN:VCALENDAR
VERSION:2.0
PRODID:-//ChamberMaster//Event Calendar 2.0//EN
METHOD:PUBLISH
X-PUBLISHED-TTL:P3D
REFRESH-INTERVAL:P3D
CALSCALE:GREGORIAN
BEGIN:VEVENT
DTSTART:20260402T010000Z
DTEND:20260402T030000Z
X-MICROSOFT-CDO-ALLDAYEVENT:FALSE
SUMMARY:Passover Seder
DESCRIPTION:Come join us at North Tahoe Hebrew Congregation for Passover. Our Seder will include traditional rituals\, delicious food\, and meaningful discussions about the holiday's significance. Whether you're a long-time member\, new to our community\, or visiting\, all are welcome to attend this in-person event. Let's come together to commemorate this important holiday in a warm and welcoming atmosphere. We look forward to seeing you there!
X-ALT-DESC;FMTTYPE=text/html:Come join us at North Tahoe Hebrew Congregation for Passover. Our Seder will include traditional rituals\, delicious food\, and meaningful discussions about the holiday&#39\;s significance. Whether you&#39\;re a long-time member\, new to our community\, or visiting\, all are welcome to attend this in-person event. Let&#39\;s come together to commemorate this important holiday in a warm and welcoming atmosphere. We look forward to seeing you there!
LOCATION:North Tahoe Hebrew Congregation 7000 Latone Avenue\, Tahoe Vista
UID:e.2339.83452
SEQUENCE:3
DTSTAMP:20260420T055611Z
URL:https://business.truckee.com/events/details/passover-seder-83452
END:VEVENT

END:VCALENDAR
