BEGIN:VCALENDAR
VERSION:2.0
PRODID:-//ChamberMaster//Event Calendar 2.0//EN
METHOD:PUBLISH
X-PUBLISHED-TTL:P3D
REFRESH-INTERVAL:P3D
CALSCALE:GREGORIAN
BEGIN:VEVENT
DTSTART:20200311T143000Z
DTEND:20200311T153000Z
X-MICROSOFT-CDO-ALLDAYEVENT:FALSE
SUMMARY:Jibboom Street Toastmasters Club Meeting
DESCRIPTION:Do you want to become a confident and effective communicator? Try Toastmasters! A fun\, supportive environment to achieve your goals at your own pace.
X-ALT-DESC;FMTTYPE=text/html:Do you want to become a confident and effective communicator? Try Toastmasters! A fun\, supportive environment to achieve your goals at your own pace.&nbsp\;
LOCATION:Truckee Regional Airport Conference Room 10356 Truckee Airport Rd\, Truckee\, CA 96161
UID:e.2339.41486
SEQUENCE:3
DTSTAMP:20260425T124801Z
URL:https://business.truckee.com/events/details/jibboom-street-toastmasters-club-meeting-03-11-2020-41486
END:VEVENT

END:VCALENDAR
