BEGIN:VCALENDAR
VERSION:2.0
PRODID:-//ChamberMaster//Event Calendar 2.0//EN
METHOD:PUBLISH
X-PUBLISHED-TTL:P3D
REFRESH-INTERVAL:P3D
CALSCALE:GREGORIAN
BEGIN:VEVENT
DTSTART:20241020T010000Z
DTEND:20241020T050000Z
X-MICROSOFT-CDO-ALLDAYEVENT:FALSE
SUMMARY:34th Annual Tahoe Chocolate and Wine Festival
DESCRIPTION:We are looking forward to celebrating our community and all we have accomplished together with an evening of decadent chocolate creations\, wine tasting\, heavy appetizers\, live music\, and an engaging and interactive program. Our theme this year is Masquerade   so get ready for the FUN!
X-ALT-DESC;FMTTYPE=text/html:We are looking forward to celebrating our community and all we have accomplished together with an evening of decadent chocolate creations\, wine tasting\, heavy appetizers\, live music\, and an engaging and interactive program. Our theme this year is Masquerade &ndash\; so get ready for the FUN!
LOCATION:111 Country Club Dr. Incline Village\, NV 89451
UID:e.2339.78502
SEQUENCE:3
DTSTAMP:20260419T130856Z
URL:https://business.truckee.com/events/details/34th-annual-tahoe-chocolate-and-wine-festival-78502
END:VEVENT

END:VCALENDAR
