BEGIN:VCALENDAR
VERSION:2.0
PRODID:-//ChamberMaster//Event Calendar 2.0//EN
METHOD:PUBLISH
X-PUBLISHED-TTL:P3D
REFRESH-INTERVAL:P3D
CALSCALE:GREGORIAN
BEGIN:VEVENT
DTSTART:20260607T180000Z
DTEND:20260608T000000Z
X-MICROSOFT-CDO-ALLDAYEVENT:FALSE
SUMMARY:Truckee Roundhouse Maker Show
DESCRIPTION:Join the Truckee Roundhouse for a celebration of art\, community\, and ingenuity on Sunday\, June 7th! This fundraiser brings together our entire creative community   Artists\, Inventors\, Non-profits\, Performers\, and Sponsors to IGNITE THE IMAGINATION. This is not just a craft fair   at the Maker Show\, YOU are the artist.\n\n\n\nWe'll have a variety of interactive arts\, technologies\, creative workshops\, a maker market\, food trucks\, beer\, music\, art cars\, kids activities\, a silent auction\, and raffle prizes. $15 donation entry $10 bikers & students Free 5 & under (save $5 when you buy early online!)\n\n\n\ninfo@truckeeroundhouse.org 530.582.4007
X-ALT-DESC;FMTTYPE=text/html:Join the Truckee Roundhouse for a celebration of art\, community\, and ingenuity on Sunday\, June 7th! This fundraiser brings together our entire creative community &ndash\; Artists\, Inventors\, Non-profits\, Performers\, and Sponsors to IGNITE THE IMAGINATION. This is not just a craft fair &ndash\; at the Maker Show\, YOU are the artist.<br />\n<br />\nWe&#39\;ll have a variety of interactive arts\, technologies\, creative workshops\, a maker market\, food trucks\, beer\, music\, art cars\, kids activities\, a silent auction\, and raffle prizes. $15 donation entry $10 bikers &amp\; students Free 5 &amp\; under (save $5 when you buy early online!)<br />\n<br />\ninfo@truckeeroundhouse.org 530.582.4007
LOCATION:12116 Chandelle Way\, Suite E3 Truckee\, CA 96161
UID:e.2339.82970
SEQUENCE:3
DTSTAMP:20260422T003647Z
URL:http://business.truckee.com/events/details/truckee-roundhouse-maker-show-06-07-2026-82970
END:VEVENT

END:VCALENDAR
