BEGIN:VCALENDAR
VERSION:2.0
PRODID:-//ChamberMaster//Event Calendar 2.0//EN
METHOD:PUBLISH
X-PUBLISHED-TTL:P3D
REFRESH-INTERVAL:P3D
CALSCALE:GREGORIAN
BEGIN:VEVENT
DTSTART:20260102T220000Z
DTEND:20260110T010000Z
X-MICROSOFT-CDO-ALLDAYEVENT:FALSE
SUMMARY:Truckee 1927 Model Railroad Display
DESCRIPTION:The Truckee 1927 model railroad will be on display from September 17th through January 9\, 2026 at the Steve Randall Community Recreation Center.\n\n\n\nThe Truckee Donner Railroad Society will be on hand running the trains and talking about Truckee's railroad history every Friday afternoon from 2:00 to 5:00 during the exhibit.\n\n\n\nJanuary 9th will be the last day!
X-ALT-DESC;FMTTYPE=text/html:The Truckee 1927 model railroad will be on display from September 17th through January 9\, 2026 at the Steve Randall Community Recreation Center.<br />\n<br />\nThe Truckee Donner Railroad Society will be on hand running the trains and talking about Truckee&#39\;s railroad history every Friday afternoon from 2:00 to 5:00 during the exhibit.<br />\n<br />\nJanuary 9th will be the last day!
LOCATION:Steve Randall Community Recreation Center
UID:e.2339.82439
SEQUENCE:3
DTSTAMP:20260422T003549Z
URL:http://business.truckee.com/events/details/truckee-1927-model-railroad-display-01-02-2026-82439
END:VEVENT

END:VCALENDAR
