BEGIN:VCALENDAR
VERSION:2.0
PRODID:-//ChamberMaster//Event Calendar 2.0//EN
METHOD:PUBLISH
X-PUBLISHED-TTL:P3D
REFRESH-INTERVAL:P3D
CALSCALE:GREGORIAN
BEGIN:VEVENT
DTSTART:20250705T010000Z
DTEND:20250706T050000Z
X-MICROSOFT-CDO-ALLDAYEVENT:FALSE
SUMMARY:Summer Concert on the Green
DESCRIPTION:Summer Concert on the Green is an outdoor\, family-friendly event held on the Tahoe Donner Driving Range.
X-ALT-DESC;FMTTYPE=text/html:Summer Concert on the Green is an outdoor\, family-friendly event held on the Tahoe Donner Driving Range.
LOCATION:Trout Creek Recreation Center
UID:e.2339.79751
SEQUENCE:3
DTSTAMP:20260422T143647Z
URL:http://business.truckee.com/events/details/summer-concert-on-the-green-07-04-2025-79751
END:VEVENT

END:VCALENDAR
