BEGIN:VCALENDAR
VERSION:2.0
PRODID:-//ChamberMaster//Event Calendar 2.0//EN
METHOD:PUBLISH
X-PUBLISHED-TTL:P3D
REFRESH-INTERVAL:P3D
CALSCALE:GREGORIAN
BEGIN:VEVENT
DTSTART:20260704T153000Z
DTEND:20260704T190000Z
X-MICROSOFT-CDO-ALLDAYEVENT:FALSE
SUMMARY:Run To The Beach Trail Run 5 & 10k
DESCRIPTION:Run\, walk or stroll the 5K or 10K course. Starting at the North Tahoe Regional Park the courses offer scenic and fun trails. The 5K is a quick course and the 10K has a signature climb. Come out with your friends and family and start your July 4th with a run\, walk\, or stroll to the Beach. Don't miss jumping in Lake Tahoe to cool down!
X-ALT-DESC;FMTTYPE=text/html:Run\, walk or stroll the 5K or 10K course. Starting at the North Tahoe Regional Park the courses offer scenic and fun trails. The 5K is a quick course and the 10K has a signature climb. Come out with your friends and family and start your July 4th with a run\, walk\, or stroll to the Beach. Don&#39\;t miss jumping in Lake Tahoe to cool down!
LOCATION:North Tahoe Regional Park\, Lake Tahoe\, CA
UID:e.2339.79886
SEQUENCE:3
DTSTAMP:20260422T022229Z
URL:http://business.truckee.com/events/details/run-to-the-beach-trail-run-5-10k-07-04-2026-79886
END:VEVENT

END:VCALENDAR
