BEGIN:VCALENDAR
VERSION:2.0
PRODID:-//ChamberMaster//Event Calendar 2.0//EN
METHOD:PUBLISH
X-PUBLISHED-TTL:P3D
REFRESH-INTERVAL:P3D
CALSCALE:GREGORIAN
BEGIN:VEVENT
DTSTART:20270120T020000Z
DTEND:20270120T060000Z
X-MICROSOFT-CDO-ALLDAYEVENT:FALSE
SUMMARY:Planning Commission Meeting - Town of Truckee
DESCRIPTION:The Planning Commission meets the third Tuesday of each month at 6:00 p.m. in the Council Chambers.
X-ALT-DESC;FMTTYPE=text/html:The Planning Commission meets the third Tuesday of each month at 6:00 p.m. in the Council Chambers.
LOCATION:Town Hall - Council Chambers 10183 Truckee Airport Road Truckee\, CA 96161
UID:e.2339.33682
SEQUENCE:3
DTSTAMP:20260422T095128Z
URL:http://business.truckee.com/events/details/planning-commission-meeting-town-of-truckee-01-19-2027-33682
END:VEVENT

END:VCALENDAR
