BEGIN:VCALENDAR
VERSION:2.0
PRODID:-//ChamberMaster//Event Calendar 2.0//EN
METHOD:PUBLISH
X-PUBLISHED-TTL:P3D
REFRESH-INTERVAL:P3D
CALSCALE:GREGORIAN
BEGIN:VEVENT
DTSTART:20250704T010000Z
DTEND:20250704T050000Z
X-MICROSOFT-CDO-ALLDAYEVENT:FALSE
SUMMARY:Patriotic Pops at the Field
DESCRIPTION:This star-spangled celebration is once again led by fan-favorite Conductor Jason Altieri\, and will include a mix of patriotic marches\; pop favorites from Wicked\, Harry Potter  and composer John Williams\; an Armed Forces Salute\; and much more   concluding with a spectacular fireworks display (weather permitting). All ages welcome! Enjoy family friendly activities before the show on the concourse\, including face painting\, magicians\, and a food-eating contest. Gates open at 6:00 pm for a 6:30pm pre-show featuring Reno's own Eric Henry Andersen & Friends. Eric will also feature in several numbers in the main program with the orchestra\, which begins at 8:00 pm. In addition to Eric and his band\, local vocalist Cliff Porter and artists from Reno's Biggest Little Circus organization will feature in the main program\, making this year's event the biggest and best yet. Tickets start at just $15\, or family packs available for $50 for four tickets. Kick off your July 4th weekend right with the Reno Phil at the ballpark.
X-ALT-DESC;FMTTYPE=text/html:This star-spangled celebration is once again led by fan-favorite Conductor Jason Altieri\, and will include a mix of patriotic marches\; pop favorites from Wicked\, Harry Potter&trade\; and composer John Williams\; an Armed Forces Salute\; and much more &mdash\; concluding with a spectacular fireworks display (weather permitting). All ages welcome! Enjoy family friendly activities before the show on the concourse\, including face painting\, magicians\, and a food-eating contest. Gates open at 6:00 pm for a 6:30pm pre-show featuring Reno&rsquo\;s own Eric Henry Andersen &amp\; Friends. Eric will also feature in several numbers in the main program with the orchestra\, which begins at 8:00 pm. In addition to Eric and his band\, local vocalist Cliff Porter and artists from Reno&rsquo\;s Biggest Little Circus organization will feature in the main program\, making this year&rsquo\;s event the biggest and best yet. Tickets start at just $15\, or family packs available for $50 for four tickets. Kick off your July 4th weekend right with the Reno Phil at the ballpark.
LOCATION:Greater Nevada Field\, Reno Home of the Aces Baseball Team
UID:e.2339.80840
SEQUENCE:3
DTSTAMP:20260422T143407Z
URL:http://business.truckee.com/events/details/patriotic-pops-at-the-field-80840
END:VEVENT

END:VCALENDAR
