BEGIN:VCALENDAR
VERSION:2.0
PRODID:-//ChamberMaster//Event Calendar 2.0//EN
METHOD:PUBLISH
X-PUBLISHED-TTL:P3D
REFRESH-INTERVAL:P3D
CALSCALE:GREGORIAN
BEGIN:VEVENT
DTSTART:20260118T010000Z
DTEND:20260118T050000Z
X-MICROSOFT-CDO-ALLDAYEVENT:FALSE
SUMMARY:Not Your Grandma's Bingo
DESCRIPTION:All proceeds benifit the Rec Department's Seniors Golden Program. Prizes\, drinks\, music\n\nThis years dress theme is "Party Like a Rockstar."  \n\n\n\nMust 21 years or older.
X-ALT-DESC;FMTTYPE=text/html:All proceeds benifit the Rec Department&#39\;s Seniors Golden Program. Prizes\, drinks\, music<br />\nThis years dress theme is &quot\;Party Like a Rockstar.&quot\;&nbsp\;&nbsp\;<br />\n<br />\nMust 21 years or older.
LOCATION:Steve Randall Community Recreation Center
UID:e.2339.82476
SEQUENCE:3
DTSTAMP:20260422T021946Z
URL:http://business.truckee.com/events/details/not-your-grandma-s-bingo-82476
END:VEVENT

END:VCALENDAR
