BEGIN:VCALENDAR
VERSION:2.0
PRODID:-//ChamberMaster//Event Calendar 2.0//EN
METHOD:PUBLISH
X-PUBLISHED-TTL:P3D
REFRESH-INTERVAL:P3D
CALSCALE:GREGORIAN
BEGIN:VEVENT
DTSTART:20250726T164500Z
DTEND:20250726T200000Z
X-MICROSOFT-CDO-ALLDAYEVENT:FALSE
SUMMARY:Donner Lake Kids Triathlon
DESCRIPTION:The Donner Lake Kids Triathlon is an actual triathlon featuring the swim-bike-run format for kids ages 4 to 12. The focus of the event is to provide a triathlon experience to this age group in a non-competitive\, fun and safe atmosphere.
X-ALT-DESC;FMTTYPE=text/html:The Donner Lake Kids Triathlon is an actual triathlon featuring the swim-bike-run format for kids ages 4 to 12. The focus of the event is to provide a triathlon experience to this age group in a non-competitive\, fun and safe atmosphere.
LOCATION:West End Beach\, Donner Lake\, Truckee
UID:e.2339.79875
SEQUENCE:3
DTSTAMP:20260422T144835Z
URL:http://business.truckee.com/events/details/donner-lake-kids-triathlon-79875
END:VEVENT

END:VCALENDAR
